BEGIN:VCALENDAR
PRODID:-//Bitrix//Bitrix Calendar//EN
VERSION:2.0
CALSCALE:GREGORIAN
METHOD:REQUEST
BEGIN:VEVENT
ORGANIZER;CN=managepain.ru:mailto:
SUMMARY:DANILOV PAINTALK
DTSTART;TZID=:20260608T170000
DTEND;TZID=:20260608T183000
LOCATION:https://managepain.ru/events/2026-06-08-danilov-paintalk/
UID:69ea04207b414
END:VEVENT
END:VCALENDAR